BEGIN:VCALENDAR
VERSION:2.0
PRODID:-//Karnevalsfreunde Esslingen e.V. - ECPv6.0.2//NONSGML v1.0//EN
CALSCALE:GREGORIAN
METHOD:PUBLISH
X-WR-CALNAME:Karnevalsfreunde Esslingen e.V.
X-ORIGINAL-URL:https://karnevalsfreunde.de
X-WR-CALDESC:Veranstaltungen für Karnevalsfreunde Esslingen e.V.
REFRESH-INTERVAL;VALUE=DURATION:PT1H
X-Robots-Tag:noindex
X-PUBLISHED-TTL:PT1H
BEGIN:VTIMEZONE
TZID:Europe/Berlin
BEGIN:DAYLIGHT
TZOFFSETFROM:+0100
TZOFFSETTO:+0200
TZNAME:CEST
DTSTART:20240331T010000
END:DAYLIGHT
BEGIN:STANDARD
TZOFFSETFROM:+0200
TZOFFSETTO:+0100
TZNAME:CET
DTSTART:20241027T010000
END:STANDARD
END:VTIMEZONE
BEGIN:VEVENT
DTSTART;TZID=Europe/Berlin:20240121T140000
DTEND;TZID=Europe/Berlin:20240121T173000
DTSTAMP:20260420T144322
CREATED:20231014T085535Z
LAST-MODIFIED:20231014T085617Z
UID:2624-1705845600-1705858200@karnevalsfreunde.de
SUMMARY:Kinderfasching Hohenkreuz
DESCRIPTION:Am 21.01.2024 findet unser Kinderfasching in der Hohenkreuzhalle in Esslingen-Hohenkreuz statt. \nWir öffnen um 14:00 Uhr unsere Türen für euch. Ab 14:30 Uhr starten wir dann mit einem abwechslungsreichen Kinderprogramm für euch. \nFür Verpflegung ist gesorgt. \nEintritt: 5\,00 € pro Kopf \nWir freuen uns auf Euch mit einem 3-fachen Halli-galli!!!!
URL:https://karnevalsfreunde.de/event/kinderfasching-hohenkreuz-3
LOCATION:Turn- und Versammlungshalle Hohenkreuz (Seewiesenschule)\, Hohenkreuzweg 34/1\, Esslingen\, 73732
END:VEVENT
BEGIN:VEVENT
DTSTART;TZID=Europe/Berlin:20240127T181100
DTEND;TZID=Europe/Berlin:20240128T230000
DTSTAMP:20260420T144322
CREATED:20231014T085922Z
LAST-MODIFIED:20240125T192629Z
UID:2622-1706379060-1706482800@karnevalsfreunde.de
SUMMARY:Karnevalssitzung 2024
DESCRIPTION:Für 27. Januar 2024 ist unsere bunte Karnevalssitzung in der Gemeindehalle in Esslingen-Altbach geplant. Saalöffnung ist um 17:11 Uhr Eintritt 24 € Mitglieder 21 € Schüler / Studenten 15 € Für ein abwechslungsreiches Programm mit Tanz\, Guggenmusik und vielem mehr ist gesorgt \n\n\n\n\n\nWir freuen uns auf Euch mit einem 3-fachen Halli-galli!!!!
URL:https://karnevalsfreunde.de/event/karnevalssitzung-2024
LOCATION:Gemeindehalle Altbach\, Esslinger Straße 108\, Altbach\, Baden-Württemberg\, 73776\, Deutschland
END:VEVENT
END:VCALENDAR